BEGIN:VCALENDAR
VERSION:2.0
PRODID:icalendar-ruby
CALSCALE:GREGORIAN
METHOD:PUBLISH
BEGIN:VEVENT
DTSTAMP:20260419T143355Z
UID:6-428492@meadowoodchurch.tithelysetup2.com
DTSTART:20261029T230000Z
DTEND:20261030T040000Z
CLASS:PUBLIC
CREATED:20260419T094017
DESCRIPTION:
LAST-MODIFIED:20260419T094017
LOCATION:Meadowood Church
SUMMARY:Wednesday Worship
URL;VALUE=URI:https://meadowoodchurch.tithelysetup2.com/events/wednesday-wo
 rship/2026-10-29
END:VEVENT
END:VCALENDAR
